BEGIN:VCALENDAR
VERSION:2.0
PRODID:-//eventon.com NONSGML v1.0//EN
CALSCALE:GREGORIAN
METHOD:PUBLISH
BEGIN:VEVENT
UID:69e734667c877
DTSTAMP:20260421T082510Z
DTSTART:20230714T210000Z
DTEND:20230715T035900Z
LOCATION:Miromar Outlets Lee County Sheriff’s Office Community Outreach Center\,  10801 Corkscrew Rd\,  Ste 109\,  Estero\,  FL 33928
SUMMARY:Teen Driver Challenge Jul. 14-15
DESCRIPTION:This course teaches techniques and life-saving skills used by p
 rofessional drivers in a "hands-on" driving environment. Students learn veh
 icle dynamics\,  safe driving practices and responsible decision making thr
 ough the classroom and driving exercises. The course is two days: Friday\, 
  July 14: 5-8 pm Saturday\,  July 15: 7-10 am IMPORTANT:  Additional pape
 rwork[..]\nhttps://leesyal.org/events/teen-driver-challenge-jul-14-15/
URL:https://leesyal.org/events/teen-driver-challenge-jul-14-15/
END:VEVENT
END:VCALENDAR