BEGIN:VCALENDAR
VERSION:2.0
PRODID:-//eventon.com NONSGML v1.0//EN
CALSCALE:GREGORIAN
METHOD:PUBLISH
BEGIN:VEVENT
UID:69ed4ca915107
DTSTAMP:20260425T232217Z
DTSTART:20250207T220000Z
DTEND:20250208T150000Z
LOCATION:Miromar Outlets Lee County Sheriff’s Office Community Outreach Center\,  10801 Corkscrew Rd\,  Ste 109\,  Estero\,  FL 33928
SUMMARY:Teen Driver Challenge Feb. 7-8
DESCRIPTION:This course teaches techniques and life-saving skills used by p
 rofessional drivers in a "hands-on" driving environment. Students learn veh
 icle dynamics\,  safe driving practices and responsible decision making thr
 ough the classroom and driving exercises. The course is two days: Friday\, 
  February 7: 5-8 pm Saturday\,  February 8: 7-10 am IMPORTANT:  Additiona
 l paperwork[..]\nhttps://leesyal.org/events/teen-driver-challenge-feb-7-8/
URL:https://leesyal.org/events/teen-driver-challenge-feb-7-8/
END:VEVENT
END:VCALENDAR